Workbook

Sheet 総括表※入力不要・要提出
A1: 請 求 総 括 表
L2: 令和 | M2: =IF('請求書（請負契約用）入力用'!N2<>"",'請求書（請負契約用）入力用'!N2,'請求書（物品、職人用）入力用'!N2) -> 0 | N2: 年 | O2: =IF('請求書（請負契約用）入力用'!P2<>"",'請求書（請負契約用）入力用'!P2,'請求書（物品、職人用）入力用'!P2) -> 0 | P2: 月 | Q2: =IF('請求書（請負契約用）入力用'!R2<>"",'請求書（請負契約用）入力用'!R2,'請求書（物品、職人用）入力用'!R2) -> 0 | R2: 日締 | T2: 住所 | W2: =IF('請求書（請負契約用）入力用'!X2<>"",'請求書（請負契約用）入力用'!X2,'請求書（物品、職人用）入力用'!X2) -> 0
A3: 藤木サッシ 株式会社 御中 | T3: 社名 | W3: =IF('請求書（請負契約用）入力用'!X3<>"",'請求書（請負契約用）入力用'!X3,'請求書（物品、職人用）入力用'!X3) -> 0
T4: 代表者名 | W4: =IF('請求書（請負契約用）入力用'!X4<>"",'請求書（請負契約用）入力用'!X4,'請求書（物品、職人用）入力用'!X4) -> 0
A5: 下記の通り請求致します。 | N5: ※藤木サッシ使用欄 | T5: TEL | W5: =IF('請求書（請負契約用）入力用'!X5<>"",'請求書（請負契約用）入力用'!X5,'請求書（物品、職人用）入力用'!X5) -> 0
A6: 当月請求金額合計(税抜) | G6: =+P15 -> 0 | N6: 請求金額 | T6: FAX | W6: =IF('請求書（請負契約用）入力用'!X6<>"",'請求書（請負契約用）入力用'!X6,'請求書（物品、職人用）入力用'!X6) -> 0
A7: 消費税額 | G7: =+T15 -> 0 | N7: 相殺金額 | T7: 適格事業者番号 | W7: =IF('請求書（請負契約用）入力用'!X7<>"",'請求書（請負契約用）入力用'!X7,'請求書（物品、職人用）入力用'!X7) -> 0
A8: 当月請求金額合計 （税込） | G8: =$G$6+$G$7 -> 0 | N8: 支払金額 | T8: 振込銀行名 | V8: =IF('請求書（請負契約用）入力用'!W8<>"",'請求書（請負契約用）入力用'!W8,'請求書（物品、職人用）入力用'!W8) -> 0 | Z8: 本支店名 | AB8: =IF('請求書（請負契約用）入力用'!AC8<>"",'請求書（請負契約用）入力用'!AC8,'請求書（物品、職人用）入力用'!AC8) -> 0
N9: 現金 | T9: 預金種別 | V9: =IF('請求書（請負契約用）入力用'!W9<>"",'請求書（請負契約用）入力用'!W9,'請求書（物品、職人用）入力用'!W9) -> 0 | X9: 口座番号 | Z9: =IF('請求書（請負契約用）入力用'!AA9<>"",'請求書（請負契約用）入力用'!AA9,'請求書（物品、職人用）入力用'!AA9) -> 0
N10: でんさい | T10: 口座名義 | V10: =IF('請求書（請負契約用）入力用'!W10<>"",'請求書（請負契約用）入力用'!W10,'請求書（物品、職人用）入力用'!W10) -> 0
A12: 適用 | P12: 当月請求金額（税抜） | T12: 当月消費税 | W12: 当月請求金額（税込） | AA12: 消費税率
A13: 請負契約用 小計 | P13: =+'請求書（請負契約用）入力用'!H6 | T13: =+'請求書（請負契約用）入力用'!H7 | W13: =+'請求書（請負契約用）入力用'!H8 | AA13: 0.1
A14: 物品、職人用 小計 | P14: =+'請求書（物品、職人用）入力用'!H6 | T14: =+'請求書（物品、職人用）入力用'!H7 | W14: =+'請求書（物品、職人用）入力用'!H8 | AA14: 0.1
P15: =SUM(P13:S14) -> 0 | T15: =SUM(T13:V14) -> 0 | W15: =SUM(W13:Z14) -> 0
S17: 8％対象 | V17: =SUMIF($AA$13:$AB$14,"8%",$V$13:$X$14) -> 0 | Y17: 消費税 | AA17: =ROUND($V$17*0.08,0) -> 0
S18: 10％対象 | V18: =SUMIF($AA$13:$AB$14,"10％",$P$13:$S$14) -> 0 | Y18: 消費税 | AA18: =ROUND($V$18*0.1,0) -> 0

Sheet 請求書（請負契約用）入力例
A1: 請 求 書 （請負契約用）
M2: 令和 | N2: 7 | O2: 年 | P2: 6 | Q2: 月 | R2: 30 | S2: 日締 | U2: 住所 | X2: 新潟県北蒲原郡聖籠町東港3丁目872-11
A3: 藤木サッシ 株式会社 御中 | U3: 社名 | X3: 藤木サッシ株式会社
U4: 代表者名 | X4: 代表取締役 小菅 純一
A5: 下記の通り請求致します。 | O5: ※藤木サッシ使用欄 | U5: TEL | X5: 025-256-2116
A6: 当月請求金額合計(税抜) | H6: =$W$23+$W$24 -> 174444 | O6: 請求金額 | U6: FAX | X6: 025-257-5705
A7: 消費税額 | H7: =$AB$23+$AB$24 -> 16556 | O7: 相殺金額 | U7: 適格事業者番号 | X7: T9110001013568
A8: 当月請求金額合計 （税込） | H8: =$H$6+$H$7 -> 191000 | O8: 支払金額 | U8: 振込銀行名 | AA8: 本支店名
O9: 現金 | U9: 預金種別 | W9: 普通 | Y9: 口座番号
O10: でんさい | U10: 口座名義
A12: № | B12: 日 付 | D12: 工事番号 | G12: 工 事 名 | M12: 工事内容 | Q12: ①契約金額 （税抜） | T12: ②前回迄累計請求額 （税抜） | W12: ③当月請求金額 （税抜） | Z12: ①-(②+③) 差引残額 | AB12: 消費税率 | AD12: 営業担当 | AE12: 工務担当 | AF12: 明細が足りない場合は下の内訳に続きをご入力下さい。
A13: 1 | B13: 45210 | D13: Ｓ23〇〇〇 | G13: 〇〇〇〇工事 | M13: 鋼製建具 | Q13: 2000000 | T13: 1550000 | W13: 50000 | Z13: =IF(W13="","",$Q13-($T13+$W13)) -> 400000 | AB13: 0.1
A14: 2 | B14: 45211 | D14: Ｓ23〇〇〇 | G14: 〇〇〇〇工事 | M14: ガラス工事 | Q14: 1800000 | T14: 0 | W14: 44444 | Z14: =IF(W14="","",$Q14-($T14+$W14)) -> 1755556 | AB14: 0.08
A15: 3 | B15: 45215 | D15: Ｎ23〇〇〇 | G15: 〇〇〇〇工事 | M15: ガラス工事 | Q15: 100000 | T15: 20000 | W15: 80000 | Z15: =IF(W15="","",$Q15-($T15+$W15)) -> 0 | AB15: 0.1
A16: 4 | Z16: =IF(W16="","",$Q16-($T16+$W16)) | AB16: 0.1
A17: 5 | Z17: =IF(W17="","",$Q17-($T17+$W17)) | AB17: 0.1
A18: 6 | Z18: =IF(W18="","",$Q18-($T18+$W18)) | AB18: 0.1
A19: 7 | Z19: =IF(W19="","",$Q19-($T19+$W19)) | AB19: 0.1
A20: 8 | Z20: =IF(W20="","",$Q20-($T20+$W20)) | AB20: 0.1
T23: 8％対象 | W23: =SUMIF($AB$13:$AC$20,"8%",$W$13:$Y$20)+SUMIF($AB$29:$AC$47,"8%",$W$29:$Y$47) -> 44444 | Z23: 消費税 | AB23: =ROUND($W$23*0.08,0) -> 3556
T24: 10％対象 | W24: =SUMIF($AB$13:$AC$20,"10％",$W$13:$Y$20)+SUMIF($AB$29:$AC$47,"10%",$W$29:$Y$47) -> 130000 | Z24: 消費税 | AB24: =ROUND($W$24*0.1,0) -> 13000
A27: 請求書（請負契約用）内訳
A28: № | B28: 日 付 | D28: 工事番号 | G28: 工 事 名 | M28: 工事内容 | Q28: ①契約金額 （税抜） | T28: ②前回迄累計請求額 （税抜） | W28: ③当月請求金額 （税抜） | Z28: ①-(②+③) 差引残額 | AB28: 消費税率 | AD28: 営業担当 | AE28: 工務担当 | AF28: 明細が足りない場合は下の内訳に続きをご入力下さい。
A29: 9 | Z29: =IF(W29="","",$Q29-($T29+$W29)) | AB29: 0.1
A30: 10 | Z30: =IF(W30="","",$Q30-($T30+$W30)) | AB30: 0.1
A31: 11 | Z31: =IF(W31="","",$Q31-($T31+$W31)) | AB31: 0.1
A32: 12 | Z32: =IF(W32="","",$Q32-($T32+$W32)) | AB32: 0.1
A33: 13 | Z33: =IF(W33="","",$Q33-($T33+$W33)) | AB33: 0.1
A34: 14 | Z34: =IF(W34="","",$Q34-($T34+$W34)) | AB34: 0.1
A35: 15 | Z35: =IF(W35="","",$Q35-($T35+$W35)) | AB35: 0.1
A36: 16 | Z36: =IF(W36="","",$Q36-($T36+$W36)) | AB36: 0.1
A37: 17 | Z37: =IF(W37="","",$Q37-($T37+$W37)) | AB37: 0.1
A38: 18 | Z38: =IF(W38="","",$Q38-($T38+$W38)) | AB38: 0.1
A39: 19 | Z39: =IF(W39="","",$Q39-($T39+$W39)) | AB39: 0.1
A40: 20 | Z40: =IF(W40="","",$Q40-($T40+$W40)) | AB40: 0.1
... A47: 27 | Z47: =IF(W47="","",$Q47-($T47+$W47)) | AB47: 0.1

Sheet 請求書（請負契約用）入力用
A1: 請 求 書 （請負契約用）
M2: 令和 | O2: 年 | Q2: 月 | S2: 日締 | U2: 住所
A3: 藤木サッシ 株式会社 御中 | U3: 社名
U4: 代表者名
A5: 下記の通り請求致します。 | O5: ※藤木サッシ使用欄 | U5: TEL
A6: 当月請求金額合計(税抜) | H6: =IF(W24=0,"",$W$23+$W$24) | O6: 請求金額 | U6: FAX
A7: 消費税額 | H7: =IF(AB24=0,"",$AB$23+$AB$24) | O7: 相殺金額 | U7: 適格事業者番号
A8: 当月請求金額合計 （税込） | H8: =IF(H6="","",$H$6+$H$7) | O8: 支払金額 | U8: 振込銀行名 | AA8: 本支店名
O9: 現金 | U9: 預金種別 | Y9: 口座番号
O10: でんさい | U10: 口座名義
A12: № | B12: 日 付 | D12: 工事番号 | G12: 工 事 名 | M12: 工事内容 | Q12: ①契約金額 （税抜） | T12: ②前回迄累計請求額 （税抜） | W12: ③当月請求金額 （税抜） | Z12: ①-(②+③) 差引残額 | AB12: 消費税率 | AD12: 営業担当 | AE12: 工務担当 | AF12: 明細が足りない場合は下の内訳に続きをご入力下さい。
A13: 1 | Z13: =IF(W13="","",$Q13-($T13+$W13)) | AB13: 0.1
A14: 2 | Z14: =IF(W14="","",$Q14-($T14+$W14)) | AB14: 0.1
A15: 3 | Z15: =IF(W15="","",$Q15-($T15+$W15)) | AB15: 0.1
A16: 4 | Z16: =IF(W16="","",$Q16-($T16+$W16)) | AB16: 0.1
A17: 5 | Z17: =IF(W17="","",$Q17-($T17+$W17)) | AB17: 0.1
A18: 6 | Z18: =IF(W18="","",$Q18-($T18+$W18)) | AB18: 0.1
A19: 7 | Z19: =IF(W19="","",$Q19-($T19+$W19)) | AB19: 0.1
A20: 8 | Z20: =IF(W20="","",$Q20-($T20+$W20)) | AB20: 0.1
T23: 8％対象 | W23: =SUMIF($AB$13:$AC$20,"8%",$W$13:$Y$20)+SUMIF($AB$29:$AC$47,"8%",$W$29:$Y$47) -> 0 | Z23: 消費税 | AB23: =ROUND($W$23*0.08,0) -> 0
T24: 10％対象 | W24: =SUMIF($AB$13:$AC$20,"10％",$W$13:$Y$20)+SUMIF($AB$29:$AC$47,"10%",$W$29:$Y$47) -> 0 | Z24: 消費税 | AB24: =ROUND($W$24*0.1,0) -> 0
A27: 請求書（請負契約用）内訳
A28: № | B28: 日 付 | D28: 工事番号 | G28: 工 事 名 | M28: 工事内容 | Q28: ①契約金額 （税抜） | T28: ②前回迄累計請求額 （税抜） | W28: ③当月請求金額 （税抜） | Z28: ①-(②+③) 差引残額 | AB28: 消費税率 | AD28: 営業担当 | AE28: 工務担当
A29: 9 | Z29: =IF(W29="","",$Q29-($T29+$W29)) | AB29: 0.1
A30: 10 | Z30: =IF(W30="","",$Q30-($T30+$W30)) | AB30: 0.1
A31: 11 | Z31: =IF(W31="","",$Q31-($T31+$W31)) | AB31: 0.1
A32: 12 | Z32: =IF(W32="","",$Q32-($T32+$W32)) | AB32: 0.1
A33: 13 | Z33: =IF(W33="","",$Q33-($T33+$W33)) | AB33: 0.1
A34: 14 | Z34: =IF(W34="","",$Q34-($T34+$W34)) | AB34: 0.1
A35: 15 | Z35: =IF(W35="","",$Q35-($T35+$W35)) | AB35: 0.1
A36: 16 | Z36: =IF(W36="","",$Q36-($T36+$W36)) | AB36: 0.1
A37: 17 | Z37: =IF(W37="","",$Q37-($T37+$W37)) | AB37: 0.1
A38: 18 | Z38: =IF(W38="","",$Q38-($T38+$W38)) | AB38: 0.1
A39: 19 | Z39: =IF(W39="","",$Q39-($T39+$W39)) | AB39: 0.1
A40: 20 | Z40: =IF(W40="","",$Q40-($T40+$W40)) | AB40: 0.1
... A47: 27 | Z47: =IF(W47="","",$Q47-($T47+$W47)) | AB47: 0.1

Sheet 請求書（物品、職人用）入力例
A1: 請 求 書 （物品、職人用）
L2: 令和 | N2: 7 | O2: 年 | P2: 6 | Q2: 月 | R2: 30 | S2: 日締 | U2: 住所 | X2: 新潟県北蒲原郡聖籠町東港3丁目872-11
A3: 藤木サッシ 株式会社 御中 | U3: 社名 | X3: 藤木サッシ株式会社
U4: 代表者名 | X4: 代表取締役 小菅 純一
A5: 下記の通り請求致します。 | O5: ※藤木サッシ使用欄 | U5: TEL | X5: 025-256-2116
A6: 当月請求金額合計(税抜) | H6: =$V$23+$V$24 -> 258000 | O6: 請求金額 | U6: FAX | X6: 025-257-5705
A7: 消費税額 | H7: =$AB$23+$AB$24 -> 25640 | O7: 相殺金額 | U7: 適格事業者番号 | X7: T9110001013568
A8: 当月請求金額合計 （税込） | H8: =$H$6+$H$7 -> 283640 | O8: 支払金額 | U8: 振込銀行名 | AA8: 本支店名
O9: 現金 | U9: 預金種別 | W9: 普通 | Y9: 口座番号
O10: でんさい | U10: 口座名義
A12: № | B12: 日 付 | D12: 工事番号 | G12: 工 事 名 | M12: 品 名 | Q12: 数 量 | S12: 単 位 | U12: 単 価 （税抜） | X12: 金 額 （税抜） | AB12: 消費税率 | AD12: 営業担当 | AE12: 工務担当 | AF12: 明細が足りない場合は下の内訳に続きをご入力下さい。
A13: 1 | B13: 45210 | D13: S23〇〇〇 | G13: 〇〇〇工事 | M13: 〇〇〇 | Q13: 3 | S13: 個 | U13: 50000 | X13: =IF(U13="","",($Q13*$U13)) -> 150000 | AB13: 0.1
A14: 2 | B14: 45211 | D14: Ｓ23〇〇〇 | G14: 〇〇〇工事 | M14: 〇〇〇 | Q14: 2 | S14: 個 | U14: 4000 | X14: =IF(U14="","",($Q14*$U14)) -> 8000 | AB14: 0.08
A15: 3 | B15: 45215 | D15: Ｎ23〇〇〇 | G15: 〇〇〇工事 | M15: 〇〇〇 | Q15: 5 | S15: 人工 | U15: 20000 | X15: =IF(U15="","",($Q15*$U15)) -> 100000 | AB15: 0.1
A16: 4 | X16: =IF(U16="","",($Q16*$U16)) | AB16: 0.1
A17: 5 | X17: =IF(U17="","",($Q17*$U17)) | AB17: 0.1
A18: 6 | X18: =IF(U18="","",($Q18*$U18)) | AB18: 0.1
A19: 7 | X19: =IF(U19="","",($Q19*$U19)) | AB19: 0.1
A20: 8 | X20: =IF(U20="","",($Q20*$U20)) | AB20: 0.1
S23: 8％対象 | V23: =SUMIF($AB$13:$AC$20,"8％",$X$13:$AA$20)+SUMIF($AB$29:$AC$47,"8%",$X$29:$AA$47)+SUMIF($AB$50:$AC$68,"8%",$X$50:$AA$68)+SUMIF($AB$50:$AC$68,"8%",$X$50:$AA$68)+SUMIF($AB$71:$AC$89,"8%",$X$71:$AA$89)+SUMIF($AB$92:$AC$110,"8%",$X$92:$AA$110) -> 8000 | Y23: 消費税 | AB23: =ROUND($V$23*0.08,0) -> 640
S24: 10％対象 | V24: =SUMIF($AB$13:$AC$20,"10％",$X$13:$AA$20)+SUMIF($AB$29:$AC$47,"10%",$X$29:$AA$47)+SUMIF($AB$50:$AC$68,"10%",$X$50:$AA$68)+SUMIF($AB$71:$AC$89,"10%",$X$71:$AA$89)+SUMIF($AB$92:$AC$110,"10%",$X$92:$AA$110) -> 250000 | Y24: 消費税 | AB24: =ROUND($V$24*0.1,0) -> 25000
A27: 請求書（物品、職人用）内訳
A28: № | B28: 日 付 | D28: 工事番号 | G28: 工 事 名 | M28: 品 名 | Q28: 数 量 | S28: 単 位 | U28: 単 価 （税抜） | X28: 金 額 （税抜） | AB28: 消費税率 | AD28: 営業担当 | AE28: 工務担当 | AF28: 明細が足りない場合は下の内訳に続きをご入力下さい。
A29: 9 | X29: =IF(U29="","",($Q29*$U29)) | AB29: 0.1
A30: 10 | X30: =IF(U30="","",($Q30*$U30)) | AB30: 0.1
A31: 11 | X31: =IF(U31="","",($Q31*$U31)) | AB31: 0.1
A32: 12 | X32: =IF(U32="","",($Q32*$U32)) | AB32: 0.1
A33: 13 | X33: =IF(U33="","",($Q33*$U33)) | AB33: 0.1
A34: 14 | X34: =IF(U34="","",($Q34*$U34)) | AB34: 0.1
A35: 15 | X35: =IF(U35="","",($Q35*$U35)) | AB35: 0.1
A36: 16 | X36: =IF(U36="","",($Q36*$U36)) | AB36: 0.1
A37: 17 | X37: =IF(U37="","",($Q37*$U37)) | AB37: 0.1
A38: 18 | X38: =IF(U38="","",($Q38*$U38)) | AB38: 0.08
A39: 19 | X39: =IF(U39="","",($Q39*$U39)) | AB39: 0.1
A40: 20 | X40: =IF(U40="","",($Q40*$U40)) | AB40: 0.1
... A47: 27 | X47: =IF(U47="","",($Q47*$U47)) | AB47: 0.1
A48: 請求書（物品、職人用）内訳
A49: № | B49: 日 付 | D49: 工事番号 | G49: 工 事 名 | M49: 品 名 | Q49: 数 量 | S49: 単 位 | U49: 単 価 （税抜） | X49: 金 額 （税抜） | AB49: 消費税率 | AD49: 営業担当 | AE49: 工務担当 | AF49: 明細が足りない場合は下の内訳に続きをご入力下さい。
A50: 28 | X50: =IF(U50="","",($Q50*$U50)) | AB50: 0.1
A51: 29 | X51: =IF(U51="","",($Q51*$U51)) | AB51: 0.1
...

Sheet 請求書（物品、職人用）入力用
A1: 請 求 書 （物品、職人用）
L2: 令和 | O2: 年 | Q2: 月 | S2: 日締 | U2: 住所
A3: 藤木サッシ 株式会社 御中 | U3: 社名
U4: 代表者名
A5: 下記の通り請求致します。 | O5: ※藤木サッシ使用欄 | U5: TEL
A6: 当月請求金額合計(税抜) | H6: =IF(V24=0,"",$V$23+$V$24) | O6: 請求金額 | U6: FAX
A7: 消費税額 | H7: =IF(AB24=0,"",$AB$23+$AB$24) | O7: 相殺金額 | U7: 適格事業者番号
A8: 当月請求金額合計 （税込） | H8: =IF(H6="","",$H$6+$H$7) | O8: 支払金額 | U8: 振込銀行名 | AA8: 本支店名
O9: 現金 | U9: 預金種別 | Y9: 口座番号
O10: でんさい | U10: 口座名義
A12: № | B12: 日 付 | D12: 工事番号 | G12: 工 事 名 | M12: 品 名 | Q12: 数 量 | S12: 単 位 | U12: 単 価 （税抜） | X12: 金 額 （税抜） | AB12: 消費税率 | AD12: 営業担当 | AE12: 工務担当 | AF12: 明細が足りない場合は下の内訳に続きをご入力下さい。
A13: 1 | X13: =IF(U13="","",($Q13*$U13)) | AB13: 0.1
A14: 2 | X14: =IF(U14="","",($Q14*$U14)) | AB14: 0.1
A15: 3 | X15: =IF(U15="","",($Q15*$U15)) | AB15: 0.1
A16: 4 | X16: =IF(U16="","",($Q16*$U16)) | AB16: 0.1
A17: 5 | X17: =IF(U17="","",($Q17*$U17)) | AB17: 0.1
A18: 6 | X18: =IF(U18="","",($Q18*$U18)) | AB18: 0.1
A19: 7 | X19: =IF(U19="","",($Q19*$U19)) | AB19: 0.1
A20: 8 | X20: =IF(U20="","",($Q20*$U20)) | AB20: 0.1
S23: 8％対象 | V23: =SUMIF($AB$13:$AC$20,"8％",$X$13:$AA$20)+SUMIF($AB$29:$AC$47,"8%",$X$29:$AA$47)+SUMIF($AB$50:$AC$68,"8%",$X$50:$AA$68)+SUMIF($AB$50:$AC$68,"8%",$X$50:$AA$68)+SUMIF($AB$71:$AC$89,"8%",$X$71:$AA$89)+SUMIF($AB$92:$AC$110,"8%",$X$92:$AA$110) -> 0 | Y23: 消費税 | AB23: =ROUND($V$23*0.08,0) -> 0
S24: 10％対象 | V24: =SUMIF($AB$13:$AC$20,"10％",$X$13:$AA$20)+SUMIF($AB$29:$AC$47,"10%",$X$29:$AA$47)+SUMIF($AB$50:$AC$68,"10%",$X$50:$AA$68)+SUMIF($AB$71:$AC$89,"10%",$X$71:$AA$89)+SUMIF($AB$92:$AC$110,"10%",$X$92:$AA$110) -> 0 | Y24: 消費税 | AB24: =ROUND($V$24*0.1,0) -> 0
A27: 請求書（物品、職人用）内訳
A28: № | B28: 日 付 | D28: 工事番号 | G28: 工 事 名 | M28: 品 名 | Q28: 数 量 | S28: 単 位 | U28: 単 価 （税抜） | X28: 金 額 （税抜） | AB28: 消費税率 | AD28: 営業担当 | AE28: 工務担当 | AF28: 明細が足りない場合は下の内訳に続きをご入力下さい。
A29: 9 | X29: =IF(U29="","",($Q29*$U29)) | AB29: 0.1
A30: 10 | X30: =IF(U30="","",($Q30*$U30)) | AB30: 0.1
A31: 11 | X31: =IF(U31="","",($Q31*$U31)) | AB31: 0.1
A32: 12 | X32: =IF(U32="","",($Q32*$U32)) | AB32: 0.1
A33: 13 | X33: =IF(U33="","",($Q33*$U33)) | AB33: 0.1
A34: 14 | X34: =IF(U34="","",($Q34*$U34)) | AB34: 0.1
A35: 15 | X35: =IF(U35="","",($Q35*$U35)) | AB35: 0.1
A36: 16 | X36: =IF(U36="","",($Q36*$U36)) | AB36: 0.1
A37: 17 | X37: =IF(U37="","",($Q37*$U37)) | AB37: 0.1
A38: 18 | X38: =IF(U38="","",($Q38*$U38)) | AB38: 0.1
A39: 19 | X39: =IF(U39="","",($Q39*$U39)) | AB39: 0.1
A40: 20 | X40: =IF(U40="","",($Q40*$U40)) | AB40: 0.1
... A47: 27 | X47: =IF(U47="","",($Q47*$U47)) | AB47: 0.1
A48: 請求書（物品、職人用）内訳
A49: № | B49: 日 付 | D49: 工事番号 | G49: 工 事 名 | M49: 品 名 | Q49: 数 量 | S49: 単 位 | U49: 単 価 （税抜） | X49: 金 額 （税抜） | AB49: 消費税率 | AD49: 営業担当 | AE49: 工務担当 | AF49: 明細が足りない場合は下の内訳に続きをご入力下さい。
A50: 28 | X50: =IF(U50="","",($Q50*$U50)) | AB50: 0.1
A51: 29 | X51: =IF(U51="","",($Q51*$U51)) | AB51: 0.1
...
